BEGIN:VCALENDAR
VERSION:2.0
PRODID:-//https://events.rsjoomla.com///NONSGML kigkonsult.se iCalcreator 2.10.15//
METHOD:PUBLISH
BEGIN:VEVENT
UID:20260422T011924UTC-6660zXHscV@https://events.rsjoomla.com/
DTSTAMP:20260422T011924Z
DESCRIPTION:Earth's mightiest heroes must come together and learn to fight 
 as a team if they are to stop the mischievous Loki and his alien army from
  enslaving humanity. https://events.rsjoomla.com/list-events/event/80-aven
 gers-the-movie.html
DTSTART:20260422T010123Z
DTEND:20260424T010123Z
LOCATION:RSEvents!Pro Cinema (New York\, NY\, USA)
SUMMARY:Avengers - The Movie
URL:https://events.rsjoomla.com/list-events/event/80-avengers-the-movie.htm
 l
END:VEVENT
END:VCALENDAR
