BEGIN:VCALENDAR
VERSION:2.0
PRODID:-//https://events.rsjoomla.com///NONSGML kigkonsult.se iCalcreator 2.10.15//
METHOD:PUBLISH
BEGIN:VEVENT
UID:20260423T214202UTC-5804ZbzUvO@https://events.rsjoomla.com/
DTSTAMP:20260423T214202Z
DESCRIPTION:Earth's mightiest heroes must come together and learn to fight 
 as a team if they are to stop the mischievous Loki and his alien army from
  enslaving humanity. https://events.rsjoomla.com/list-events/event/78-aven
 gers-the-movie.html
DTSTART:20260423T210137Z
DTEND:20260425T210137Z
LOCATION:RSEvents!Pro Cinema (New York\, NY\, USA)
SUMMARY:Avengers - The Movie
URL:https://events.rsjoomla.com/list-events/event/78-avengers-the-movie.htm
 l
END:VEVENT
END:VCALENDAR
